BEGIN:VCALENDAR
VERSION:2.0
PRODID:icalendar-ruby
CALSCALE:GREGORIAN
METHOD:PUBLISH
BEGIN:VEVENT
DTSTAMP:20260420T164706Z
UID:805-2363378@mcachurch.ca
DTSTART:20261013T020000Z
DTEND:20261013T040000Z
CLASS:PUBLIC
CREATED:20260420T081232
DESCRIPTION:Come out Monday nights to be a part of our amazing Young Adult 
 community at MCA!\nThe goal of Young Adults at MCA is walking with Jesus i
 n community. We do this through Bible studies\, wide games\, retreats\, wo
 rship\, serving together and so much more! \nReach out to our Young Adult
  Pastor\, Elliott for more information. (elliott@mcachurch.ca)
LAST-MODIFIED:20260420T081232
LOCATION:Mission Creek Alliance Church
SUMMARY:Young Adults
URL;VALUE=URI:https://www.mcachurch.ca/events/young-adults--805/2026-10-12
ATTACH;FILENAME=Young Adults.png;FMTTYPE=image/png:https://dq5pwpg1q8ru0.cl
 oudfront.net/2026/03/09/18/03/33/3f83dfda-793d-48dc-9579-8c40980609b9/Youn
 g%20Adults.png
END:VEVENT
END:VCALENDAR
